BEGIN:VCALENDAR
VERSION:2.0
PRODID:-//Reformschule Kassel - ECPv6.15.20//NONSGML v1.0//EN
CALSCALE:GREGORIAN
METHOD:PUBLISH
X-WR-CALNAME:Reformschule Kassel
X-ORIGINAL-URL:https://reformschule.de
X-WR-CALDESC:Veranstaltungen fÃ¼r Reformschule Kassel
REFRESH-INTERVAL;VALUE=DURATION:PT1H
X-Robots-Tag:noindex
X-PUBLISHED-TTL:PT1H
BEGIN:VTIMEZONE
TZID:Europe/Berlin
BEGIN:DAYLIGHT
TZOFFSETFROM:+0100
TZOFFSETTO:+0200
TZNAME:CEST
DTSTART:20190331T010000
END:DAYLIGHT
BEGIN:STANDARD
TZOFFSETFROM:+0200
TZOFFSETTO:+0100
TZNAME:CET
DTSTART:20191027T010000
END:STANDARD
BEGIN:DAYLIGHT
TZOFFSETFROM:+0100
TZOFFSETTO:+0200
TZNAME:CEST
DTSTART:20200329T010000
END:DAYLIGHT
BEGIN:STANDARD
TZOFFSETFROM:+0200
TZOFFSETTO:+0100
TZNAME:CET
DTSTART:20201025T010000
END:STANDARD
BEGIN:DAYLIGHT
TZOFFSETFROM:+0100
TZOFFSETTO:+0200
TZNAME:CEST
DTSTART:20210328T010000
END:DAYLIGHT
BEGIN:STANDARD
TZOFFSETFROM:+0200
TZOFFSETTO:+0100
TZNAME:CET
DTSTART:20211031T010000
END:STANDARD
END:VTIMEZONE
BEGIN:VEVENT
DTSTART;TZID=Europe/Berlin:20200902T151500
DTEND;TZID=Europe/Berlin:20200902T161500
DTSTAMP:20260422T031429
CREATED:20200831T135045Z
LAST-MODIFIED:20200831T135113Z
UID:8481-1599059700-1599063300@reformschule.de
SUMMARY:Stufensitzung Stufe III
DESCRIPTION:Tagesordnung: \n1. Verabschiedung des letzten Protokolls\n2. Berichte aus den Arbeitsgruppen\n3. RÃ¼ckblick auf die letzten zwei Wochen (Erfahrungen\, WÃ¼nsche\, Pausenregelung\, Planung einer neuen Sitzordnung&#8230;)\n4. Wandertage am 04.09. und am 14.09. \nAus der Vorbereitungswoche:\nTermine fÃ¼r die Projekt-AG festlegen.
URL:https://reformschule.de/termine/stufensitzung-stufe-3/
CATEGORIES:Kollegium
END:VEVENT
BEGIN:VEVENT
DTSTART;VALUE=DATE:20200904
DTEND;VALUE=DATE:20200905
DTSTAMP:20260422T031429
CREATED:20200824T140341Z
LAST-MODIFIED:20200824T140341Z
UID:8343-1599177600-1599263999@reformschule.de
SUMMARY:Wandertag der Stufe III
DESCRIPTION:
URL:https://reformschule.de/termine/wandertag-der-stufe-iii/
CATEGORIES:SchÃ¼ler*innen
END:VEVENT
BEGIN:VEVENT
DTSTART;TZID=Europe/Berlin:20200909T151500
DTEND;TZID=Europe/Berlin:20200909T171500
DTSTAMP:20260422T031429
CREATED:20200824T140703Z
LAST-MODIFIED:20200831T140502Z
UID:8349-1599664500-1599671700@reformschule.de
SUMMARY:Gesamtkonferenz
DESCRIPTION:Tagesordnung: \n  \n\nBegrÃ¼ÃŸung\nVerabschiedung der Plenum-Protokolle der Vorbereitungswoche\nWÃ¼nsche zur Tagesordnung\nAktuelles zum Hygieneplan\na) Tragen des Mund-Nasen-Schutzes\nb) Pausenregelung\nc) Nutzung des Lehrer*innenzimmers\nGeschÃ¤ftsverteilungsplan\nSchuldeputate\nFortbildungen\nHaushaltsausschuss\nBericht aus den AGs\nVerschiedenes\n\n  \nEnde gegen 17:15
URL:https://reformschule.de/termine/gesamtkonferenz-8/
LOCATION:CafÃ©teria der Reformschule
CATEGORIES:Kollegium
END:VEVENT
BEGIN:VEVENT
DTSTART;TZID=Europe/Berlin:20200911T083000
DTEND;TZID=Europe/Berlin:20200911T093000
DTSTAMP:20260422T031429
CREATED:20200903T080251Z
LAST-MODIFIED:20200903T080251Z
UID:8589-1599813000-1599816600@reformschule.de
SUMMARY:1. SV-Sitzung
DESCRIPTION:
URL:https://reformschule.de/termine/1-sv-sitzung/
LOCATION:Turnhalle der Reformschule\, SchulstraÃŸe 2\, Kassel\, Hessen\, 34131
CATEGORIES:SchÃ¼ler*innen
END:VEVENT
BEGIN:VEVENT
DTSTART;TZID=Europe/Berlin:20200912T120000
DTEND;TZID=Europe/Berlin:20200912T170000
DTSTAMP:20260422T031429
CREATED:20200908T150240Z
LAST-MODIFIED:20200908T150240Z
UID:8642-1599912000-1599930000@reformschule.de
SUMMARY:Theater-AG
DESCRIPTION:Erste Besprechung zur diesjÃ¤hrigen Planung auf dem Schulhof.
URL:https://reformschule.de/termine/theater-ag/
LOCATION:Schulhof\, SchulstraÃŸe 2\, Kassel\, Hessen\, 34131\, Deutschland
CATEGORIES:Arbeitsgemeinschaft
END:VEVENT
BEGIN:VEVENT
DTSTART;TZID=Europe/Berlin:20200916T151500
DTEND;TZID=Europe/Berlin:20200916T161500
DTSTAMP:20260422T031429
CREATED:20200824T141327Z
LAST-MODIFIED:20200824T141327Z
UID:8364-1600269300-1600272900@reformschule.de
SUMMARY:Stufensitzung Stufe III/IV
DESCRIPTION:
URL:https://reformschule.de/termine/stufensitzung-stufe-iii-iv-2/
CATEGORIES:Kollegium
END:VEVENT
BEGIN:VEVENT
DTSTART;VALUE=DATE:20200923
DTEND;VALUE=DATE:20200924
DTSTAMP:20260422T031429
CREATED:20200824T141514Z
LAST-MODIFIED:20200824T141532Z
UID:8373-1600819200-1600905599@reformschule.de
SUMMARY:Fortbildungen Digitalisierung
DESCRIPTION:
URL:https://reformschule.de/termine/fortbildungen-digitalisierung/
CATEGORIES:Kollegium
END:VEVENT
BEGIN:VEVENT
DTSTART;TZID=Europe/Berlin:20200926T120000
DTEND;TZID=Europe/Berlin:20200926T170000
DTSTAMP:20260422T031429
CREATED:20200912T111150Z
LAST-MODIFIED:20200912T111150Z
UID:8652-1601121600-1601139600@reformschule.de
SUMMARY:Theater-AG "Die Juden"
DESCRIPTION:Die genaueren Informationen werden zeitnah bekannt gegeben.
URL:https://reformschule.de/termine/theater-ag-die-juden/
LOCATION:Turnhalle der Reformschule\, SchulstraÃŸe 2\, Kassel\, Hessen\, 34131
CATEGORIES:Arbeitsgemeinschaft
END:VEVENT
END:VCALENDAR