BEGIN:VCALENDAR
VERSION:2.0
PRODID:-//Reformschule Kassel - ECPv6.15.20//NONSGML v1.0//EN
CALSCALE:GREGORIAN
METHOD:PUBLISH
X-WR-CALNAME:Reformschule Kassel
X-ORIGINAL-URL:https://reformschule.de
X-WR-CALDESC:Veranstaltungen für Reformschule Kassel
REFRESH-INTERVAL;VALUE=DURATION:PT1H
X-Robots-Tag:noindex
X-PUBLISHED-TTL:PT1H
BEGIN:VTIMEZONE
TZID:Europe/Berlin
BEGIN:DAYLIGHT
TZOFFSETFROM:+0100
TZOFFSETTO:+0200
TZNAME:CEST
DTSTART:20190331T010000
END:DAYLIGHT
BEGIN:STANDARD
TZOFFSETFROM:+0200
TZOFFSETTO:+0100
TZNAME:CET
DTSTART:20191027T010000
END:STANDARD
BEGIN:DAYLIGHT
TZOFFSETFROM:+0100
TZOFFSETTO:+0200
TZNAME:CEST
DTSTART:20200329T010000
END:DAYLIGHT
BEGIN:STANDARD
TZOFFSETFROM:+0200
TZOFFSETTO:+0100
TZNAME:CET
DTSTART:20201025T010000
END:STANDARD
BEGIN:DAYLIGHT
TZOFFSETFROM:+0100
TZOFFSETTO:+0200
TZNAME:CEST
DTSTART:20210328T010000
END:DAYLIGHT
BEGIN:STANDARD
TZOFFSETFROM:+0200
TZOFFSETTO:+0100
TZNAME:CET
DTSTART:20211031T010000
END:STANDARD
END:VTIMEZONE
BEGIN:VEVENT
DTSTART;VALUE=DATE:20200706
DTEND;VALUE=DATE:20200817
DTSTAMP:20260422T042239
CREATED:20200302T145008Z
LAST-MODIFIED:20200302T145008Z
UID:6175-1593993600-1597622399@reformschule.de
SUMMARY:Sommerferien
DESCRIPTION:
URL:https://reformschule.de/termine/sommerferien-2/
CATEGORIES:Ferien
END:VEVENT
BEGIN:VEVENT
DTSTART;TZID=Europe/Berlin:20200819T151500
DTEND;TZID=Europe/Berlin:20200819T161500
DTSTAMP:20260422T042239
CREATED:20200824T135414Z
LAST-MODIFIED:20200824T135423Z
UID:8294-1597850100-1597853700@reformschule.de
SUMMARY:Stufensitzung Stufe III/IV
DESCRIPTION:
URL:https://reformschule.de/termine/stufensitzung-stufe-iii-iv/
CATEGORIES:Kollegium
END:VEVENT
BEGIN:VEVENT
DTSTART;TZID=Europe/Berlin:20200819T151500
DTEND;TZID=Europe/Berlin:20200819T170000
DTSTAMP:20260422T042239
CREATED:20200824T134743Z
LAST-MODIFIED:20200824T140113Z
UID:8310-1597850100-1597856400@reformschule.de
SUMMARY:Stufensitzung III/IV
DESCRIPTION:Im Anschluss: NaWi-Sicherheitseinweisung
URL:https://reformschule.de/termine/stufensitzung-iii-iv/
CATEGORIES:Kollegium
END:VEVENT
BEGIN:VEVENT
DTSTART;VALUE=DATE:20200824
DTEND;VALUE=DATE:20200825
DTSTAMP:20260422T042239
CREATED:20200824T135128Z
LAST-MODIFIED:20200824T140032Z
UID:8317-1598227200-1598313599@reformschule.de
SUMMARY:Kompaktseminar
DESCRIPTION:
URL:https://reformschule.de/termine/kompaktseminar-4/
CATEGORIES:Kollegium
END:VEVENT
BEGIN:VEVENT
DTSTART;VALUE=DATE:20200824
DTEND;VALUE=DATE:20200825
DTSTAMP:20260422T042239
CREATED:20200824T135302Z
LAST-MODIFIED:20200824T140202Z
UID:8320-1598227200-1598313599@reformschule.de
SUMMARY:Aufräumtag
DESCRIPTION:
URL:https://reformschule.de/termine/aufraeumtag-2/
CATEGORIES:Kollegium,Schüler*innen
END:VEVENT
BEGIN:VEVENT
DTSTART;VALUE=DATE:20200824
DTEND;VALUE=DATE:20200825
DTSTAMP:20260422T042239
CREATED:20200824T135359Z
LAST-MODIFIED:20200824T140133Z
UID:8324-1598227200-1598313599@reformschule.de
SUMMARY:Praktikum der 10er
DESCRIPTION:
URL:https://reformschule.de/termine/praktikum-der-10er/
CATEGORIES:Schüler*innen
END:VEVENT
BEGIN:VEVENT
DTSTART;VALUE=DATE:20200824
DTEND;VALUE=DATE:20200825
DTSTAMP:20260422T042239
CREATED:20200824T135643Z
LAST-MODIFIED:20200824T140124Z
UID:8336-1598227200-1598313599@reformschule.de
SUMMARY:HJA-Rückgabe
DESCRIPTION:
URL:https://reformschule.de/termine/hja-rueckgabe/
CATEGORIES:Schüler*innen
END:VEVENT
BEGIN:VEVENT
DTSTART;VALUE=DATE:20200824
DTEND;VALUE=DATE:20200825
DTSTAMP:20260422T042239
CREATED:20200824T141033Z
LAST-MODIFIED:20200824T141033Z
UID:8357-1598227200-1598313599@reformschule.de
SUMMARY:2. Wandertag der Stufe III
DESCRIPTION:
URL:https://reformschule.de/termine/2-wandertag-der-stufe-iii/
CATEGORIES:Schüler*innen
END:VEVENT
END:VCALENDAR