BEGIN:VCALENDAR
VERSION:2.0
PRODID:-//Reformschule Kassel - ECPv6.15.20//NONSGML v1.0//EN
CALSCALE:GREGORIAN
METHOD:PUBLISH
X-ORIGINAL-URL:https://reformschule.de
X-WR-CALDESC:Veranstaltungen für Reformschule Kassel
REFRESH-INTERVAL;VALUE=DURATION:PT1H
X-Robots-Tag:noindex
X-PUBLISHED-TTL:PT1H
BEGIN:VTIMEZONE
TZID:Europe/Berlin
BEGIN:DAYLIGHT
TZOFFSETFROM:+0100
TZOFFSETTO:+0200
TZNAME:CEST
DTSTART:20190331T010000
END:DAYLIGHT
BEGIN:STANDARD
TZOFFSETFROM:+0200
TZOFFSETTO:+0100
TZNAME:CET
DTSTART:20191027T010000
END:STANDARD
BEGIN:DAYLIGHT
TZOFFSETFROM:+0100
TZOFFSETTO:+0200
TZNAME:CEST
DTSTART:20200329T010000
END:DAYLIGHT
BEGIN:STANDARD
TZOFFSETFROM:+0200
TZOFFSETTO:+0100
TZNAME:CET
DTSTART:20201025T010000
END:STANDARD
BEGIN:DAYLIGHT
TZOFFSETFROM:+0100
TZOFFSETTO:+0200
TZNAME:CEST
DTSTART:20210328T010000
END:DAYLIGHT
BEGIN:STANDARD
TZOFFSETFROM:+0200
TZOFFSETTO:+0100
TZNAME:CET
DTSTART:20211031T010000
END:STANDARD
END:VTIMEZONE
BEGIN:VEVENT
DTSTART;VALUE=DATE:20200501
DTEND;VALUE=DATE:20200502
DTSTAMP:20260424T095134
CREATED:20200113T151856Z
LAST-MODIFIED:20200113T151856Z
UID:5501-1588291200-1588377599@reformschule.de
SUMMARY:Feiertag - Tag der Arbeit
DESCRIPTION:
URL:https://reformschule.de/termine/feiertag-tag-der-arbeit/
CATEGORIES:Ferien
END:VEVENT
BEGIN:VEVENT
DTSTART;TZID=Europe/Berlin:20200506T151500
DTEND;TZID=Europe/Berlin:20200506T161500
DTSTAMP:20260424T095134
CREATED:20200224T153438Z
LAST-MODIFIED:20200507T071441Z
UID:6139-1588778100-1588781700@reformschule.de
SUMMARY:Stufensitzungen\, Stufen I bis IV
DESCRIPTION:In den jeweiligen Räumen
URL:https://reformschule.de/termine/stufensitzungen-stufen-i-bis-iv-2/
CATEGORIES:Kollegium
END:VEVENT
BEGIN:VEVENT
DTSTART;VALUE=DATE:20200513
DTEND;VALUE=DATE:20200514
DTSTAMP:20260424T095134
CREATED:20200224T153544Z
LAST-MODIFIED:20200224T153544Z
UID:6142-1589328000-1589414399@reformschule.de
SUMMARY:Stufensitzung Stufe II
DESCRIPTION:
URL:https://reformschule.de/termine/stufensitzung-stufe-ii/
CATEGORIES:Kollegium
END:VEVENT
BEGIN:VEVENT
DTSTART;VALUE=DATE:20200521
DTEND;VALUE=DATE:20200522
DTSTAMP:20260424T095134
CREATED:20200113T152121Z
LAST-MODIFIED:20200113T152121Z
UID:5505-1590019200-1590105599@reformschule.de
SUMMARY:Feiertag - Christi Himmelfahrt
DESCRIPTION:
URL:https://reformschule.de/termine/feiertag-christi-himmelfahrt/
CATEGORIES:Ferien
END:VEVENT
BEGIN:VEVENT
DTSTART;TZID=Europe/Berlin:20200522T080000
DTEND;TZID=Europe/Berlin:20200522T170000
DTSTAMP:20260424T095134
CREATED:20200113T151346Z
LAST-MODIFIED:20200113T151346Z
UID:5498-1590134400-1590166800@reformschule.de
SUMMARY:Beweglicher Ferientag
DESCRIPTION:An diesem Tag findet kein Unterricht statt!
URL:https://reformschule.de/termine/beweglicher-ferientag-6/
CATEGORIES:Ferien
END:VEVENT
BEGIN:VEVENT
DTSTART;VALUE=DATE:20200525
DTEND;VALUE=DATE:20200526
DTSTAMP:20260424T095134
CREATED:20200217T150928Z
LAST-MODIFIED:20200424T105125Z
UID:5827-1590364800-1590451199@reformschule.de
SUMMARY:Zentrale Abschlussarbeiten Haupt- und Realschule
DESCRIPTION:Mathematik:   Bildungsgang Hauptschule \nDeutsch:           Bildungsgang Realschule
URL:https://reformschule.de/termine/zentrale-abschlussarbeiten-haupt-und-realschule/
CATEGORIES:Schüler*innen
END:VEVENT
BEGIN:VEVENT
DTSTART;VALUE=DATE:20200527
DTEND;VALUE=DATE:20200528
DTSTAMP:20260424T095134
CREATED:20200217T155022Z
LAST-MODIFIED:20200424T105223Z
UID:5861-1590537600-1590623999@reformschule.de
SUMMARY:Zentrale Abschlussarbeiten Haupt- und Realschule
DESCRIPTION:Deutsch:   Bildungsgang Hauptschule \nEnglisch:  Bildungsgang Realschule
URL:https://reformschule.de/termine/zentrale-abschlusspruefungen/
CATEGORIES:Schüler*innen
END:VEVENT
BEGIN:VEVENT
DTSTART;VALUE=DATE:20200527
DTEND;VALUE=DATE:20200528
DTSTAMP:20260424T095134
CREATED:20200302T145320Z
LAST-MODIFIED:20200302T145320Z
UID:6185-1590537600-1590623999@reformschule.de
SUMMARY:Grundschul-Sporttag
DESCRIPTION:
URL:https://reformschule.de/termine/grundschul-sporttag/
CATEGORIES:Schüler*innen
END:VEVENT
BEGIN:VEVENT
DTSTART;TZID=Europe/Berlin:20200527T151500
DTEND;TZID=Europe/Berlin:20200527T173000
DTSTAMP:20260424T095134
CREATED:20200302T145657Z
LAST-MODIFIED:20200302T145657Z
UID:6193-1590592500-1590600600@reformschule.de
SUMMARY:Gesamtkonferenz
DESCRIPTION:
URL:https://reformschule.de/termine/gesamtkonferenz-5/
CATEGORIES:Kollegium
END:VEVENT
BEGIN:VEVENT
DTSTART;VALUE=DATE:20200529
DTEND;VALUE=DATE:20200530
DTSTAMP:20260424T095134
CREATED:20200217T155521Z
LAST-MODIFIED:20200424T105253Z
UID:5870-1590710400-1590796799@reformschule.de
SUMMARY:Zentrale Abschlussarbeiten Haupt- und Realschule
DESCRIPTION:Englisch:         Bildungsgang Hauptschule \nMathematik:  Bildungsgang Realschule
URL:https://reformschule.de/termine/zentrale-abschlusspruefungen-haupt-und-realschule/
CATEGORIES:Schüler*innen
END:VEVENT
END:VCALENDAR