BEGIN:VCALENDAR
VERSION:2.0
PRODID:-//Reformschule Kassel - ECPv6.15.20//NONSGML v1.0//EN
CALSCALE:GREGORIAN
METHOD:PUBLISH
X-ORIGINAL-URL:https://reformschule.de
X-WR-CALDESC:Veranstaltungen für Reformschule Kassel
REFRESH-INTERVAL;VALUE=DURATION:PT1H
X-Robots-Tag:noindex
X-PUBLISHED-TTL:PT1H
BEGIN:VTIMEZONE
TZID:Europe/Berlin
BEGIN:DAYLIGHT
TZOFFSETFROM:+0100
TZOFFSETTO:+0200
TZNAME:CEST
DTSTART:20190331T010000
END:DAYLIGHT
BEGIN:STANDARD
TZOFFSETFROM:+0200
TZOFFSETTO:+0100
TZNAME:CET
DTSTART:20191027T010000
END:STANDARD
BEGIN:DAYLIGHT
TZOFFSETFROM:+0100
TZOFFSETTO:+0200
TZNAME:CEST
DTSTART:20200329T010000
END:DAYLIGHT
BEGIN:STANDARD
TZOFFSETFROM:+0200
TZOFFSETTO:+0100
TZNAME:CET
DTSTART:20201025T010000
END:STANDARD
BEGIN:DAYLIGHT
TZOFFSETFROM:+0100
TZOFFSETTO:+0200
TZNAME:CEST
DTSTART:20210328T010000
END:DAYLIGHT
BEGIN:STANDARD
TZOFFSETFROM:+0200
TZOFFSETTO:+0100
TZNAME:CET
DTSTART:20211031T010000
END:STANDARD
END:VTIMEZONE
BEGIN:VEVENT
DTSTART;TZID=Europe/Berlin:20200401T151500
DTEND;TZID=Europe/Berlin:20200401T161500
DTSTAMP:20260424T011849
CREATED:20200224T152044Z
LAST-MODIFIED:20200224T152116Z
UID:6083-1585754100-1585757700@reformschule.de
SUMMARY:Stufensitzungen\, Stufen I bis IV
DESCRIPTION:In den jeweiligen Räumen
URL:https://reformschule.de/termine/stufensitzungen-stufen-i-bis-iv/
CATEGORIES:Kollegium
END:VEVENT
BEGIN:VEVENT
DTSTART;TZID=Europe/Berlin:20200401T161500
DTEND;TZID=Europe/Berlin:20200401T171500
DTSTAMP:20260424T011849
CREATED:20200224T152227Z
LAST-MODIFIED:20200224T152244Z
UID:6096-1585757700-1585761300@reformschule.de
SUMMARY:Projekt-AG Stufe III
DESCRIPTION:Raum der IIIc
URL:https://reformschule.de/termine/projekt-ag-stufe-iii/
CATEGORIES:Schüler*innen
END:VEVENT
BEGIN:VEVENT
DTSTART;VALUE=DATE:20200406
DTEND;VALUE=DATE:20200420
DTSTAMP:20260424T011849
CREATED:20200302T144458Z
LAST-MODIFIED:20200302T144458Z
UID:6171-1586131200-1587340799@reformschule.de
SUMMARY:Osterferien
DESCRIPTION:
URL:https://reformschule.de/termine/osterferien-2/
CATEGORIES:Ferien
END:VEVENT
BEGIN:VEVENT
DTSTART;TZID=Europe/Berlin:20200421T130000
DTEND;TZID=Europe/Berlin:20200421T142000
DTSTAMP:20260424T011849
CREATED:20200424T105959Z
LAST-MODIFIED:20200424T110223Z
UID:7317-1587474000-1587478800@reformschule.de
SUMMARY:Stufe IV-Sitzung
DESCRIPTION:Tagesordnung: \n\nUnterricht ab dem 27.4.20\nPersonalsituation (Risikogruppe/Kinderbetreuung)\nPausenregelung\nNoten im Homeschooling\nStufensitzungen in dieser Woche\nSonstiges
URL:https://reformschule.de/termine/stufe-iv-sitzung/
LOCATION:Zoom-Meeting
CATEGORIES:Kollegium
END:VEVENT
BEGIN:VEVENT
DTSTART;TZID=Europe/Berlin:20200422T151500
DTEND;TZID=Europe/Berlin:20200422T161500
DTSTAMP:20260424T011849
CREATED:20200224T152656Z
LAST-MODIFIED:20200224T152656Z
UID:6107-1587568500-1587572100@reformschule.de
SUMMARY:Deutsch Fachkonferenz
DESCRIPTION:
URL:https://reformschule.de/termine/deutsch-fachkonferenz-2/
CATEGORIES:Kollegium
END:VEVENT
BEGIN:VEVENT
DTSTART;VALUE=DATE:20200423
DTEND;VALUE=DATE:20200424
DTSTAMP:20260424T011849
CREATED:20200224T152802Z
LAST-MODIFIED:20200224T152802Z
UID:6116-1587600000-1587686399@reformschule.de
SUMMARY:Pädagogische Arbeitsgruppe
DESCRIPTION:
URL:https://reformschule.de/termine/paedagogische-arbeitsgruppe-2/
CATEGORIES:Kollegium
END:VEVENT
END:VCALENDAR