BEGIN:VCALENDAR
VERSION:2.0
PRODID:-//Reformschule Kassel - ECPv6.15.20//NONSGML v1.0//EN
CALSCALE:GREGORIAN
METHOD:PUBLISH
X-ORIGINAL-URL:https://reformschule.de
X-WR-CALDESC:Veranstaltungen für Reformschule Kassel
REFRESH-INTERVAL;VALUE=DURATION:PT1H
X-Robots-Tag:noindex
X-PUBLISHED-TTL:PT1H
BEGIN:VTIMEZONE
TZID:Europe/Berlin
BEGIN:DAYLIGHT
TZOFFSETFROM:+0100
TZOFFSETTO:+0200
TZNAME:CEST
DTSTART:20190331T010000
END:DAYLIGHT
BEGIN:STANDARD
TZOFFSETFROM:+0200
TZOFFSETTO:+0100
TZNAME:CET
DTSTART:20191027T010000
END:STANDARD
BEGIN:DAYLIGHT
TZOFFSETFROM:+0100
TZOFFSETTO:+0200
TZNAME:CEST
DTSTART:20200329T010000
END:DAYLIGHT
BEGIN:STANDARD
TZOFFSETFROM:+0200
TZOFFSETTO:+0100
TZNAME:CET
DTSTART:20201025T010000
END:STANDARD
BEGIN:DAYLIGHT
TZOFFSETFROM:+0100
TZOFFSETTO:+0200
TZNAME:CEST
DTSTART:20210328T010000
END:DAYLIGHT
BEGIN:STANDARD
TZOFFSETFROM:+0200
TZOFFSETTO:+0100
TZNAME:CET
DTSTART:20211031T010000
END:STANDARD
END:VTIMEZONE
BEGIN:VTIMEZONE
TZID:Europe/Paris
BEGIN:DAYLIGHT
TZOFFSETFROM:+0100
TZOFFSETTO:+0200
TZNAME:CEST
DTSTART:20190331T010000
END:DAYLIGHT
BEGIN:STANDARD
TZOFFSETFROM:+0200
TZOFFSETTO:+0100
TZNAME:CET
DTSTART:20191027T010000
END:STANDARD
BEGIN:DAYLIGHT
TZOFFSETFROM:+0100
TZOFFSETTO:+0200
TZNAME:CEST
DTSTART:20200329T010000
END:DAYLIGHT
BEGIN:STANDARD
TZOFFSETFROM:+0200
TZOFFSETTO:+0100
TZNAME:CET
DTSTART:20201025T010000
END:STANDARD
BEGIN:DAYLIGHT
TZOFFSETFROM:+0100
TZOFFSETTO:+0200
TZNAME:CEST
DTSTART:20210328T010000
END:DAYLIGHT
BEGIN:STANDARD
TZOFFSETFROM:+0200
TZOFFSETTO:+0100
TZNAME:CET
DTSTART:20211031T010000
END:STANDARD
END:VTIMEZONE
BEGIN:VEVENT
DTSTART;VALUE=DATE:20200302
DTEND;VALUE=DATE:20200307
DTSTAMP:20260424T023602
CREATED:20200224T150000Z
LAST-MODIFIED:20200224T150000Z
UID:6012-1583107200-1583539199@reformschule.de
SUMMARY:Aktionswoche der Stufe II
DESCRIPTION:
URL:https://reformschule.de/termine/aktionswoche-der-stufe-ii/
CATEGORIES:Schüler*innen
END:VEVENT
BEGIN:VEVENT
DTSTART;VALUE=DATE:20200303
DTEND;VALUE=DATE:20200314
DTSTAMP:20260424T023602
CREATED:20200224T143345Z
LAST-MODIFIED:20200224T150627Z
UID:5693-1583193600-1584143999@reformschule.de
SUMMARY:Frankreichaustausch nach Guingamp 2020
DESCRIPTION:30 Schülerinnen und Schüler aus dem Jahrgang 9 der Reformschule fahren mit auf den Frankreich-Austausch nach Guingamp/ Bretagne\n(insgesamt fahren 38 Schülerinnen und Schüler mit\, 8 haben sich von der HSS angemeldet)\nBetreuende Lehrkräfte: Pablo Wittenbrink und Jana Németh\, sowie Ute Schmerbach von der HSS\nReisedaten:\nFahrt nach Guingamp: Am 03.03.2020 geht es abends los. Am 13.03.2020 kommen wir im Laufe des Vormittags wieder in Kassel an.\nBesuch in Kassel der Franzosen: 16.5.2020 (Ankunft) – 23.5.2020 (abends Abfahrt)\n(über das Himmelfahrt-Wochenende)
URL:https://reformschule.de/termine/frankreichaustausch-nach-guingamp-2020/
CATEGORIES:Schüler*innen
END:VEVENT
BEGIN:VEVENT
DTSTART;TZID=Europe/Berlin:20200306T150000
DTEND;TZID=Europe/Berlin:20200306T180000
DTSTAMP:20260424T023602
CREATED:20191209T151454Z
LAST-MODIFIED:20200224T150812Z
UID:5382-1583506800-1583517600@reformschule.de
SUMMARY:Tag der offenen Tür
DESCRIPTION:An diesem Tag hat die Stufe I und II normalen Unterricht mit Mittagessen\, die Stufe III & IV hat um 12.15 Uhr Unterrichtsschluss der Vorbereitungen wegen. \nFür die Jahrgänge 0-4 findet bis 15.00 Uhr eine Notbetreuung statt. Bei dringendem Bedarf muss man sich hierfür bei Frau Rudolph direkt anmelden.
URL:https://reformschule.de/termine/tag-der-offen-tuer/
CATEGORIES:Schulgemeinde
END:VEVENT
BEGIN:VEVENT
DTSTART;VALUE=DATE:20200311
DTEND;VALUE=DATE:20200312
DTSTAMP:20260424T023602
CREATED:20200224T150911Z
LAST-MODIFIED:20200224T150937Z
UID:6049-1583884800-1583971199@reformschule.de
SUMMARY:Aufräumtag
DESCRIPTION:
URL:https://reformschule.de/termine/aufraeumtag/
CATEGORIES:Schüler*innen
END:VEVENT
BEGIN:VEVENT
DTSTART;TZID=Europe/Berlin:20200319T133000
DTEND;TZID=Europe/Berlin:20200319T180000
DTSTAMP:20260424T023602
CREATED:20200224T151310Z
LAST-MODIFIED:20200224T151310Z
UID:6063-1584624600-1584640800@reformschule.de
SUMMARY:Kompaktseminar
DESCRIPTION:
URL:https://reformschule.de/termine/kompaktseminar-2/
CATEGORIES:Kollegium
END:VEVENT
BEGIN:VEVENT
DTSTART;TZID=Europe/Berlin:20200320T090000
DTEND;TZID=Europe/Berlin:20200320T170000
DTSTAMP:20260424T023602
CREATED:20200224T151340Z
LAST-MODIFIED:20200224T151340Z
UID:6069-1584694800-1584723600@reformschule.de
SUMMARY:Kompaktseminar
DESCRIPTION:
URL:https://reformschule.de/termine/kompaktseminar-3/
CATEGORIES:Kollegium
END:VEVENT
BEGIN:VEVENT
DTSTART;TZID=Europe/Berlin:20200325T151500
DTEND;TZID=Europe/Berlin:20200325T173000
DTSTAMP:20260424T023602
CREATED:20200224T151613Z
LAST-MODIFIED:20200224T151654Z
UID:6076-1585149300-1585157400@reformschule.de
SUMMARY:Gesamtkonferenz
DESCRIPTION:Ort: Cafetaria
URL:https://reformschule.de/termine/gesamtkonferenz-4/
CATEGORIES:Kollegium
END:VEVENT
BEGIN:VEVENT
DTSTART;VALUE=DATE:20200326
DTEND;VALUE=DATE:20200327
DTSTAMP:20260424T023602
CREATED:20190902T140812Z
LAST-MODIFIED:20200120T153849Z
UID:4533-1585180800-1585267199@reformschule.de
SUMMARY:Girls- und Boys-Day
DESCRIPTION:Link zu den Seiten des Girls- und Boys- Days:
URL:https://reformschule.de/termine/girls-and-boys-day/
CATEGORIES:Schüler*innen
END:VEVENT
END:VCALENDAR