BEGIN:VCALENDAR
VERSION:2.0
PRODID:-//Reformschule Kassel - ECPv6.15.20//NONSGML v1.0//EN
CALSCALE:GREGORIAN
METHOD:PUBLISH
X-ORIGINAL-URL:https://reformschule.de
X-WR-CALDESC:Veranstaltungen fÃ¼r Reformschule Kassel
REFRESH-INTERVAL;VALUE=DURATION:PT1H
X-Robots-Tag:noindex
X-PUBLISHED-TTL:PT1H
BEGIN:VTIMEZONE
TZID:Europe/Berlin
BEGIN:DAYLIGHT
TZOFFSETFROM:+0100
TZOFFSETTO:+0200
TZNAME:CEST
DTSTART:20180325T010000
END:DAYLIGHT
BEGIN:STANDARD
TZOFFSETFROM:+0200
TZOFFSETTO:+0100
TZNAME:CET
DTSTART:20181028T010000
END:STANDARD
BEGIN:DAYLIGHT
TZOFFSETFROM:+0100
TZOFFSETTO:+0200
TZNAME:CEST
DTSTART:20190331T010000
END:DAYLIGHT
BEGIN:STANDARD
TZOFFSETFROM:+0200
TZOFFSETTO:+0100
TZNAME:CET
DTSTART:20191027T010000
END:STANDARD
BEGIN:DAYLIGHT
TZOFFSETFROM:+0100
TZOFFSETTO:+0200
TZNAME:CEST
DTSTART:20200329T010000
END:DAYLIGHT
BEGIN:STANDARD
TZOFFSETFROM:+0200
TZOFFSETTO:+0100
TZNAME:CET
DTSTART:20201025T010000
END:STANDARD
BEGIN:DAYLIGHT
TZOFFSETFROM:+0100
TZOFFSETTO:+0200
TZNAME:CEST
DTSTART:20210328T010000
END:DAYLIGHT
BEGIN:STANDARD
TZOFFSETFROM:+0200
TZOFFSETTO:+0100
TZNAME:CET
DTSTART:20211031T010000
END:STANDARD
END:VTIMEZONE
BEGIN:VEVENT
DTSTART;TZID=Europe/Berlin:20191202T200000
DTEND;TZID=Europe/Berlin:20191202T220000
DTSTAMP:20260424T042309
CREATED:20190826T140729Z
LAST-MODIFIED:20191023T134822Z
UID:4440-1575316800-1575324000@reformschule.de
SUMMARY:Info-Abend fÃ¼r die SchulanfÃ¤nger im Schuljahr 2020/2021
DESCRIPTION:
URL:https://reformschule.de/termine/info-abend-fuer-die-schulanfaenger-im-schuljahr-2020-2021-2/
LOCATION:CafÃ©teria der Reformschule
CATEGORIES:Eltern
END:VEVENT
BEGIN:VEVENT
DTSTART;TZID=Europe/Berlin:20191203T133000
DTEND;TZID=Europe/Berlin:20191203T150000
DTSTAMP:20260424T042309
CREATED:20191202T144841Z
LAST-MODIFIED:20191202T144949Z
UID:5306-1575379800-1575385200@reformschule.de
SUMMARY:Weihnachtsbasar fÃ¼r SchÃ¼ler*innen
DESCRIPTION:
URL:https://reformschule.de/termine/weihnachtsbasar-fuer-schuelerinnen/
LOCATION:CafÃ©teria der Reformschule
CATEGORIES:SchÃ¼ler*innen
ATTACH;FMTTYPE=image/jpeg:https://reformschule.de/wp-content/uploads/2019/12/2019-12weihnachtsbasar.jpg
END:VEVENT
BEGIN:VEVENT
DTSTART;TZID=Europe/Berlin:20191205T104000
DTEND;TZID=Europe/Berlin:20191205T124500
DTSTAMP:20260424T042309
CREATED:20191202T151154Z
LAST-MODIFIED:20191202T153120Z
UID:5326-1575542400-1575549900@reformschule.de
SUMMARY:Mathematik-Wettbewerb des achten Jahrgangs
DESCRIPTION:Bitte mitbringen: \n\nBleistift\nGeodreieck\nZirkel
URL:https://reformschule.de/termine/mathematikwettbewerb-des-achten-jahrgangs/
LOCATION:CafÃ©teria der Reformschule
CATEGORIES:SchÃ¼ler*innen
END:VEVENT
BEGIN:VEVENT
DTSTART;TZID=Europe/Berlin:20191210T190000
DTEND;TZID=Europe/Berlin:20191210T210000
DTSTAMP:20260424T042309
CREATED:20190826T140901Z
LAST-MODIFIED:20190826T140901Z
UID:4443-1576004400-1576011600@reformschule.de
SUMMARY:Infoabend fÃ¼r Stufe II
DESCRIPTION:
URL:https://reformschule.de/termine/infoabend-fuer-stufe-ii/
CATEGORIES:Eltern
END:VEVENT
BEGIN:VEVENT
DTSTART;TZID=Europe/Berlin:20191213T110000
DTEND;TZID=Europe/Berlin:20191213T114500
DTSTAMP:20260424T042309
CREATED:20191125T153807Z
LAST-MODIFIED:20191125T153933Z
UID:5253-1576234800-1576237500@reformschule.de
SUMMARY:Monatsfeier - Kinderchor/Orchester
DESCRIPTION:
URL:https://reformschule.de/termine/monatsfeier-kinderchor-orchester/
LOCATION:Aula der Heinrich-SchÃ¼tz-Schule\, Freiherr-vom-Stein-StraÃŸe 11\, Kassel\, Hessen\, 34119\, Deutschland
CATEGORIES:Eltern,Schulgemeinde
END:VEVENT
BEGIN:VEVENT
DTSTART;TZID=Europe/Berlin:20191214T120000
DTEND;TZID=Europe/Berlin:20191214T170000
DTSTAMP:20260424T042309
CREATED:20190814T173947Z
LAST-MODIFIED:20191214T003545Z
UID:4224-1576324800-1576342800@reformschule.de
SUMMARY:Theater-AG-Probe
DESCRIPTION:12:00-13:00 UhrÂ Â Â Â Â Â Â Â Â Â Â Â Â Â Â  Vierter Akt\, 2. Szene: Kerkermeister\, Harlekin\, Widerlich\, Claudio\n13:00-13:30 UhrÂ Â Â Â Â Â Â Â Â Â Â Â Â Â Â  VierterAkt\, 3. Szene: HerzÃ¶ge\, Widerlich\, Harlekin\, Bernadin\n13:30-14:30 UhrÂ Â Â Â Â Â Â Â Â Â Â Â Â Â Â  Vierter Akt\, 4. Szene: Escalus\, Angelo\, Angelos Gewissen\n14:30-14:50 UhrÂ Â Â Â Â Â Â Â Â Â Â Â Â Â Â  Erster Akt\, 1. und 3. Szene: HerzÃ¶ge Escalus und Angelo\n14:50-15:05 UhrÂ Â Â Â Â Â Â Â Â Â Â Â Â Â Â  Dritter Akt\, 2. Szene Beginn: Ellbogen\, HerzÃ¶ge\, Harlekin\, Pompey\n15:05-15:30 UhrÂ Â Â Â Â Â Â Â Â Â Â Â Â Â Â  Zweiter Akt\, 2. Szene: Angelo\, Escalus\, Ellbogen\, Schaum\, Harlekin\, Pompey\n15:30-16:30 UhrÂ Â Â Â Â Â Â Â Â Â Â Â Â Â Â  Dritter Akt:Â  1. Szene ganz: HerzÃ¶ge\, Claudio\, Isabella\, Kerkermeister \n 
URL:https://reformschule.de/termine/theater-ag-probe-7/
CATEGORIES:Arbeitsgemeinschaft
END:VEVENT
BEGIN:VEVENT
DTSTART;TZID=Europe/Berlin:20191216T151500
DTEND;TZID=Europe/Berlin:20191216T164500
DTSTAMP:20260424T042309
CREATED:20191209T154134Z
LAST-MODIFIED:20200113T150109Z
UID:5397-1576509300-1576514700@reformschule.de
SUMMARY:Redaktionskonferenz Homepage
DESCRIPTION:
URL:https://reformschule.de/termine/redaktionskonferenz-hompage/
LOCATION:Gruppenraum IIId\, Reformschule SchulstraÃŸe 2\, Kassel\, Hessen\, 34131\, Deutschland
CATEGORIES:Arbeitsgemeinschaft
END:VEVENT
BEGIN:VEVENT
DTSTART;TZID=Europe/Berlin:20191218T151500
DTEND;TZID=Europe/Berlin:20191218T161500
DTSTAMP:20260424T042309
CREATED:20190826T141048Z
LAST-MODIFIED:20190826T141635Z
UID:4447-1576682100-1576685700@reformschule.de
SUMMARY:Stufensitzung
DESCRIPTION:
URL:https://reformschule.de/termine/stufensitzung/
CATEGORIES:Kollegium
END:VEVENT
BEGIN:VEVENT
DTSTART;VALUE=DATE:20191220
DTEND;VALUE=DATE:20191221
DTSTAMP:20260424T042309
CREATED:20190826T141152Z
LAST-MODIFIED:20190826T141152Z
UID:4450-1576800000-1576886399@reformschule.de
SUMMARY:Nur KI Unterricht
DESCRIPTION:
URL:https://reformschule.de/termine/nur-ki-unterricht/
CATEGORIES:SchÃ¼ler*innen
END:VEVENT
BEGIN:VEVENT
DTSTART;VALUE=DATE:20191223
DTEND;VALUE=DATE:20200113
DTSTAMP:20260424T042309
CREATED:20190618T055415Z
LAST-MODIFIED:20190620T093448Z
UID:3780-1577059200-1578873599@reformschule.de
SUMMARY:Weihnachtsferien
DESCRIPTION:
URL:https://reformschule.de/termine/weihnachtsferien/
CATEGORIES:Ferien
END:VEVENT
END:VCALENDAR