BEGIN:VCALENDAR
VERSION:2.0
PRODID:-//Reformschule Kassel - ECPv6.15.20//NONSGML v1.0//EN
CALSCALE:GREGORIAN
METHOD:PUBLISH
X-ORIGINAL-URL:https://reformschule.de
X-WR-CALDESC:Veranstaltungen fÃ¼r Reformschule Kassel
REFRESH-INTERVAL;VALUE=DURATION:PT1H
X-Robots-Tag:noindex
X-PUBLISHED-TTL:PT1H
BEGIN:VTIMEZONE
TZID:Europe/Berlin
BEGIN:DAYLIGHT
TZOFFSETFROM:+0100
TZOFFSETTO:+0200
TZNAME:CEST
DTSTART:20180325T010000
END:DAYLIGHT
BEGIN:STANDARD
TZOFFSETFROM:+0200
TZOFFSETTO:+0100
TZNAME:CET
DTSTART:20181028T010000
END:STANDARD
BEGIN:DAYLIGHT
TZOFFSETFROM:+0100
TZOFFSETTO:+0200
TZNAME:CEST
DTSTART:20190331T010000
END:DAYLIGHT
BEGIN:STANDARD
TZOFFSETFROM:+0200
TZOFFSETTO:+0100
TZNAME:CET
DTSTART:20191027T010000
END:STANDARD
BEGIN:DAYLIGHT
TZOFFSETFROM:+0100
TZOFFSETTO:+0200
TZNAME:CEST
DTSTART:20200329T010000
END:DAYLIGHT
BEGIN:STANDARD
TZOFFSETFROM:+0200
TZOFFSETTO:+0100
TZNAME:CET
DTSTART:20201025T010000
END:STANDARD
END:VTIMEZONE
BEGIN:VEVENT
DTSTART;TZID=Europe/Berlin:20191106T151500
DTEND;TZID=Europe/Berlin:20191106T173000
DTSTAMP:20260424T050414
CREATED:20190826T135838Z
LAST-MODIFIED:20190826T135838Z
UID:4423-1573053300-1573061400@reformschule.de
SUMMARY:Personalversammlung
DESCRIPTION:
URL:https://reformschule.de/termine/personalversammlung/
CATEGORIES:Kollegium
END:VEVENT
BEGIN:VEVENT
DTSTART;TZID=Europe/Berlin:20191108T080000
DTEND;TZID=Europe/Berlin:20191108T170000
DTSTAMP:20260424T050414
CREATED:20190826T135927Z
LAST-MODIFIED:20190826T135927Z
UID:4426-1573200000-1573232400@reformschule.de
SUMMARY:Fortbildungstag
DESCRIPTION:
URL:https://reformschule.de/termine/fortbildungstag/
CATEGORIES:Kollegium
END:VEVENT
BEGIN:VEVENT
DTSTART;TZID=Europe/Berlin:20191113T193000
DTEND;TZID=Europe/Berlin:20191113T213000
DTSTAMP:20260424T050414
CREATED:20190701T072231Z
LAST-MODIFIED:20191014T133547Z
UID:4031-1573673400-1573680600@reformschule.de
SUMMARY:Elternabend Stufen  III/IV DrogenprÃ¤vention
DESCRIPTION:
URL:https://reformschule.de/termine/4031/
LOCATION:CafÃ©teria der Reformschule sowie die GruppenrÃ¤ume der Stufe IV\, SchulstraÃŸe 2\, Kassel\, Hessen\, 34131\, Deutschland
CATEGORIES:Eltern
END:VEVENT
BEGIN:VEVENT
DTSTART;VALUE=DATE:20191115
DTEND;VALUE=DATE:20191116
DTSTAMP:20260424T050414
CREATED:20191104T154336Z
LAST-MODIFIED:20191104T154336Z
UID:5111-1573776000-1573862399@reformschule.de
SUMMARY:Beweglicher Ferientag
DESCRIPTION:
URL:https://reformschule.de/termine/beweglicher-ferientag-3/
CATEGORIES:Ferien
END:VEVENT
BEGIN:VEVENT
DTSTART;TZID=Europe/Berlin:20191118T133000
DTEND;TZID=Europe/Berlin:20191118T170000
DTSTAMP:20260424T050414
CREATED:20191014T133953Z
LAST-MODIFIED:20191118T074259Z
UID:4892-1574083800-1574096400@reformschule.de
SUMMARY:Fortbildung Stufen III & IV (Religion)
DESCRIPTION:
URL:https://reformschule.de/termine/fortbildung-stufen-iii-iv-religion/
LOCATION:CafÃ©teria der Reformschule sowie die GruppenrÃ¤ume der Stufe IV\, SchulstraÃŸe 2\, Kassel\, Hessen\, 34131\, Deutschland
CATEGORIES:Kollegium
END:VEVENT
BEGIN:VEVENT
DTSTART;TZID=Europe/Berlin:20191120T151500
DTEND;TZID=Europe/Berlin:20191120T171500
DTSTAMP:20260424T050414
CREATED:20190819T144827Z
LAST-MODIFIED:20200824T140400Z
UID:4357-1574262900-1574270100@reformschule.de
SUMMARY:Gesamtkonferenz
DESCRIPTION:Tagesordnungspunkte:\n1.BegrÃ¼ÃŸung\n2.Verabschiedung des Protokolls der letzten Gesamtkonferenz\n3.WÃ¼nsche zur Tagesordnung\n4.Personalia\n5.Schuldeputat\n6.ReligionsgesprÃ¤ch\n7.Jahrestagung Club of Rome\n8.Bericht aus der SV\n9.Bericht aus den AGs\n10.Vorstellung einer Fall-Studie mit SchÃ¼ler*innen\, Dr. Petra Richey\, Uni Kassel\n11.Verschiedenes&#8230;\nProtokoll: Heike Meyfarth-Leipolth\nEnde: ca. 17.15Uhr
URL:https://reformschule.de/termine/gesamtkonferenz-2/
LOCATION:CafÃ©teria der Reformschule sowie die GruppenrÃ¤ume der Stufe IV\, SchulstraÃŸe 2\, Kassel\, Hessen\, 34131\, Deutschland
CATEGORIES:Kollegium
END:VEVENT
BEGIN:VEVENT
DTSTART;TZID=Europe/Berlin:20191123T120000
DTEND;TZID=Europe/Berlin:20191123T170000
DTSTAMP:20260424T050414
CREATED:20190814T173635Z
LAST-MODIFIED:20191023T134230Z
UID:4218-1574510400-1574528400@reformschule.de
SUMMARY:Theater-AG-Probe
DESCRIPTION:12-14:15 Uhr  1. Akt (Ich bitte um die Anwesenheit aller HerzÃ¶ge.)\n14:30-17 Uhr  2. Akt (Ich bitte um die Anwesenheit aller HerzÃ¶ge.)
URL:https://reformschule.de/termine/theater-ag-probe-5/
LOCATION:Turnhalle der Reformschule\, SchulstraÃŸe 2\, Kassel\, Hessen\, 34131
CATEGORIES:Arbeitsgemeinschaft
END:VEVENT
BEGIN:VEVENT
DTSTART;TZID=Europe/Berlin:20191124T120000
DTEND;TZID=Europe/Berlin:20191124T180000
DTSTAMP:20260424T050414
CREATED:20190814T173749Z
LAST-MODIFIED:20191122T104029Z
UID:4221-1574596800-1574618400@reformschule.de
SUMMARY:Theater-AG-Probe
DESCRIPTION:12-13:30 Zweiter Akt\, 2. Szene: Angelo\, Ellbogen\, Harlekin\, Schaum\, Pompey\, Ellbogen\, Escalus (entschuldigt)\n13:30-15:00 Zweiter Akt\, 6. Szene: Angelo\, Angelos Gewissen\, Isabella\, Bedienter\n15:15-16:00 Dritter Akt\, 2. Szene: HerzÃ¶ge\, Ellbogen\, Lucio\, Harlekin\, Pompey\n16:00-16:45 Dritter Akt\, 2. Szene: HerzÃ¶ge\, Lucio\n16:45-17:00 Erster Akt\, 7. Szene\, HerzÃ¶ge\, Bruder Thomas
URL:https://reformschule.de/termine/theater-ag-probe-6/
LOCATION:Theater-FreiflÃ¤che vor dem Musikraum\, SchulstraÃŸe 2\, Kassel\, Hessen\, 34113\, Deutschland
CATEGORIES:Arbeitsgemeinschaft
END:VEVENT
BEGIN:VEVENT
DTSTART;VALUE=DATE:20191125
DTEND;VALUE=DATE:20191127
DTSTAMP:20260424T050414
CREATED:20191125T141025Z
LAST-MODIFIED:20191125T141025Z
UID:5183-1574640000-1574812799@reformschule.de
SUMMARY:Netzwerktreffen der Club of Rome-Schulen
DESCRIPTION:Am 25. und 26. November findet an der Reformschule das diesjÃ¤hrige Netzwerktreffen der Club of Rome-Schulen statt. LehrkrÃ¤fte und SchÃ¼ler*innen der deutschen Club of Rome-Schulen haben hier die Gelegenheit zum Kennenlernen und zum Austausch und beraten Ã¼ber die weitere Arbeit. \n 
URL:https://reformschule.de/termine/netzwerktreffen-der-club-of-rome-schulen/
LOCATION:CafÃ©teria der Reformschule
CATEGORIES:Schulgemeinde
END:VEVENT
BEGIN:VEVENT
DTSTART;TZID=Europe/Berlin:20191127T151500
DTEND;TZID=Europe/Berlin:20191127T161500
DTSTAMP:20260424T050414
CREATED:20190826T140328Z
LAST-MODIFIED:20191127T074800Z
UID:4435-1574867700-1574871300@reformschule.de
SUMMARY:Stufensitzung
DESCRIPTION:Tagesordnungspunkte: \n    TOP 1 Verabschiedung des letzten Protokolls\n    TOP 2 Berichte aus den Arbeitsgruppen (pÃ¤d. AG / Werkstatt AG / AG-Gemeinsam / Englisch-FÃ¶rder DaZ)\n    TOP 3 Termine\n    TOP 4 Tag der Offenen TÃ¼r\n    TOP 5 Orga. Jahrgangstag\n    TOP 6 Gruppenfahrt 20/21\n    TOP 7 Verschiedenes
URL:https://reformschule.de/termine/stufensitzungen-3/
LOCATION:Gruppenraum IIIc\, SchulstraÃŸe 2\, Kassel\, Hessen\, 34131\, Deutschland
CATEGORIES:Kollegium
END:VEVENT
BEGIN:VEVENT
DTSTART;TZID=Europe/Berlin:20191127T151500
DTEND;TZID=Europe/Berlin:20191127T163000
DTSTAMP:20260424T050414
CREATED:20191127T073921Z
LAST-MODIFIED:20191127T074923Z
UID:5275-1574867700-1574872200@reformschule.de
SUMMARY:Stufe IV Info-Veranstaltung zum Thema "Beratung weiterfÃ¼hrende Schulen"
DESCRIPTION:Die Gruppen- und Fachlehrer der Stufe IV (vorwiegend HauptfÃ¤cher) sind am 27.11.2019 eingeladen an der Stufe IV Konferenz teilzunehmen. Dort findet eine Info-Veranstaltung zum Thema Beratung weiterfÃ¼hrende Schulen statt. Wer also HauptfÃ¤cher in der Stufe IV unterrichtet\, nimmt morgen bitte an der Stufe IV Konferenz teil. Es kommen externe Referenten im Auftrag des Schulamts.
URL:https://reformschule.de/termine/stufe-iv-info-veranstaltung/
LOCATION:Gruppenraum IVb\, SchulstraÃŸe 2\, Kassel\, Hessen\, 34131\, Deutschland
CATEGORIES:Kollegium
END:VEVENT
BEGIN:VEVENT
DTSTART;TZID=Europe/Berlin:20191129T130000
DTEND;TZID=Europe/Berlin:20191129T130000
DTSTAMP:20260424T050414
CREATED:20190916T144000Z
LAST-MODIFIED:20190916T150111Z
UID:4655-1575032400-1575032400@reformschule.de
SUMMARY:Der zweite 1. Hilfe-Kurs
DESCRIPTION:Ahnmeldung einfach via E-Mail an Ellen Schirmer(schirmerellen@gmail.com). \nJeder Teilnehmer zahlt 30â‚¬.
URL:https://reformschule.de/termine/der-zweite-1-hilfe-kurs/
LOCATION:CafÃ©teria der Reformschule
CATEGORIES:Kollegium
END:VEVENT
END:VCALENDAR