BEGIN:VCALENDAR
VERSION:2.0
PRODID:-//Reformschule Kassel - ECPv6.15.20//NONSGML v1.0//EN
CALSCALE:GREGORIAN
METHOD:PUBLISH
X-ORIGINAL-URL:https://reformschule.de
X-WR-CALDESC:Veranstaltungen fÃ¼r Reformschule Kassel
REFRESH-INTERVAL;VALUE=DURATION:PT1H
X-Robots-Tag:noindex
X-PUBLISHED-TTL:PT1H
BEGIN:VTIMEZONE
TZID:Europe/Berlin
BEGIN:DAYLIGHT
TZOFFSETFROM:+0100
TZOFFSETTO:+0200
TZNAME:CEST
DTSTART:20180325T010000
END:DAYLIGHT
BEGIN:STANDARD
TZOFFSETFROM:+0200
TZOFFSETTO:+0100
TZNAME:CET
DTSTART:20181028T010000
END:STANDARD
BEGIN:DAYLIGHT
TZOFFSETFROM:+0100
TZOFFSETTO:+0200
TZNAME:CEST
DTSTART:20190331T010000
END:DAYLIGHT
BEGIN:STANDARD
TZOFFSETFROM:+0200
TZOFFSETTO:+0100
TZNAME:CET
DTSTART:20191027T010000
END:STANDARD
BEGIN:DAYLIGHT
TZOFFSETFROM:+0100
TZOFFSETTO:+0200
TZNAME:CEST
DTSTART:20200329T010000
END:DAYLIGHT
BEGIN:STANDARD
TZOFFSETFROM:+0200
TZOFFSETTO:+0100
TZNAME:CET
DTSTART:20201025T010000
END:STANDARD
END:VTIMEZONE
BEGIN:VEVENT
DTSTART;VALUE=DATE:20190902
DTEND;VALUE=DATE:20190907
DTSTAMP:20260424T055258
CREATED:20190823T120925Z
LAST-MODIFIED:20190901T083322Z
UID:4405-1567382400-1567814399@reformschule.de
SUMMARY:Gruppenfahrt Stufe IV
DESCRIPTION:IVa & b:\n\nAbfahrt: 9 Uhr am Busbahnhof WilhelmshÃ¶he\nZiel: Center Parc Eifel\nAnkunft Freitag: ca. 15 UhrÂ  am Busbahnhof WilhelmshÃ¶he\n\nIVc & d:\n\nAbfahrt: 08:45 Uhr am Parkplatz Bergpark WilhelmshÃ¶he (bitte bis spÃ¤testens 08:30 ankommen)\nZiel: NabeDi-Camp (Natur bewegt Dich gGMBH)\nAnkuft Freitag: ca. 15 Uhr am Parkplatz Bergpark WilhelmshÃ¶he
URL:https://reformschule.de/termine/gruppenfahrt-stufe-iv/
CATEGORIES:SchÃ¼ler*innen
END:VEVENT
BEGIN:VEVENT
DTSTART;VALUE=DATE:20190906
DTEND;VALUE=DATE:20190914
DTSTAMP:20260424T055258
CREATED:20190812T142546Z
LAST-MODIFIED:20190902T135049Z
UID:4114-1567728000-1568419199@reformschule.de
SUMMARY:Gruppenfahrt der Stufe III nach Sylt
DESCRIPTION:Der Treffpunkt fÃ¼r die Klassen IIIa\, IIIb und IIIc ist am 6. 9. 2019 um 8:05 Uhr\, am Bahnhof WilhemshÃ¶he auf dem Gleis 3. \nDagegen ist der Treffpunkt fÃ¼r die Klassen IIId\, IIIe und IIIf 6. 9. 2019 um 09:50 Uhr\, am Bahnhof WilhemshÃ¶he auf dem Gleis 3. \nDie Postanschrift des Jugendseeheims ist: \nJugendseeheim Kreis Kassel \n25992 Sylt \nEmail-Adresse: heimleitung@jugendseeheim.sylt.de \nTelefon (bitte nur in dringenden FÃ¤llen): 04651870227 \n  \nBitte maximal 25 â‚¬ Taschengeld mitgeben. \nDer Koffer\, beziehungsweise die Tasche\, sollte von dem SchÃ¼ler transportiert werden kÃ¶nnen. \nZurÃ¼ckkommen werden die SchÃ¼ler der Klassen IIIa\, IIIb und IIIc um 16:21 Uhr auf dem Gleis 2 am Bahnhof WilhelmshÃ¶he. \nDagegen werden die SchÃ¼ler der Klassen IIId\, IIIe und IIIf um 17:37 Uhr auf dem Gleis 2 am Bahnhof WilhelmshÃ¶he zurÃ¼ckkommen.
URL:https://reformschule.de/termine/gruppenfahrt-der-stufe-iii-nach-sylt/
CATEGORIES:SchÃ¼ler*innen
END:VEVENT
BEGIN:VEVENT
DTSTART;TZID=Europe/Berlin:20190918T151500
DTEND;TZID=Europe/Berlin:20190918T161500
DTSTAMP:20260424T055258
CREATED:20190819T150630Z
LAST-MODIFIED:20190916T133416Z
UID:4370-1568819700-1568823300@reformschule.de
SUMMARY:Stufensitzung
DESCRIPTION:
URL:https://reformschule.de/termine/stufensitzungen/
CATEGORIES:Kollegium
END:VEVENT
BEGIN:VEVENT
DTSTART;TZID=Europe/Berlin:20190921T120000
DTEND;TZID=Europe/Berlin:20190921T180000
DTSTAMP:20260424T055258
CREATED:20190814T171906Z
LAST-MODIFIED:20190921T071040Z
UID:4203-1569067200-1569088800@reformschule.de
SUMMARY:Theater-AG-Probe & Drehbuchautorentreffen
DESCRIPTION:Wir werden heute von 12-17 Uhr proben. Von 17-19 Uhr trifft sich die Drehbuch-Gruppe. \nEs geht bei der Theater-AG-Probe zunÃ¤chst um die Rollenverteilung. Danach wird dann das StÃ¼ck durchgestellt. Ich plane die ersten zwei Akte. Wer in den Akten 3-5 dran ist\, kann ab 13 Uhr gehen. Bitte vergesst nicht\, etwas fÃ¼r das gemeinsame Buffet mitzubringen. \nDie Drehbuchgruppe sollte ihre Texte abgetippt haben. Ich bringe einen Ordner mit. \n 
URL:https://reformschule.de/termine/theater-ag-probe-2/
LOCATION:Turnhalle der Reformschule\, SchulstraÃŸe 2\, Kassel\, Hessen\, 34131
CATEGORIES:Arbeitsgemeinschaft
END:VEVENT
BEGIN:VEVENT
DTSTART;VALUE=DATE:20190923
DTEND;VALUE=DATE:20190924
DTSTAMP:20260424T055258
CREATED:20190923T144708Z
LAST-MODIFIED:20190923T150822Z
UID:4818-1569196800-1569283199@reformschule.de
SUMMARY:Deutschtest IVc/d
DESCRIPTION:Thema: Parabelen (Analyse & Interpretation)
URL:https://reformschule.de/termine/deutschtest-ivc-d/
CATEGORIES:SchÃ¼ler*innen
END:VEVENT
BEGIN:VEVENT
DTSTART;TZID=Europe/Berlin:20190925T151500
DTEND;TZID=Europe/Berlin:20190925T173000
DTSTAMP:20260424T055258
CREATED:20190814T175521Z
LAST-MODIFIED:20190916T133726Z
UID:4238-1569424500-1569432600@reformschule.de
SUMMARY:Gesamtkonferenz
DESCRIPTION:
URL:https://reformschule.de/termine/gesamtkonferenz/
LOCATION:CafÃ©teria der Reformschule sowie die GruppenrÃ¤ume der Stufe IV\, SchulstraÃŸe 2\, Kassel\, Hessen\, 34131\, Deutschland
CATEGORIES:Kollegium
END:VEVENT
BEGIN:VEVENT
DTSTART;VALUE=DATE:20190930
DTEND;VALUE=DATE:20191014
DTSTAMP:20260424T055258
CREATED:20190624T135559Z
LAST-MODIFIED:20190624T135701Z
UID:3951-1569801600-1571011199@reformschule.de
SUMMARY:Herbstferien
DESCRIPTION:
URL:https://reformschule.de/termine/herbstferien/
CATEGORIES:Ferien
END:VEVENT
END:VCALENDAR