BEGIN:VCALENDAR
VERSION:2.0
PRODID:-//Reformschule Kassel - ECPv6.15.20//NONSGML v1.0//EN
CALSCALE:GREGORIAN
METHOD:PUBLISH
X-WR-CALNAME:Reformschule Kassel
X-ORIGINAL-URL:https://reformschule.de
X-WR-CALDESC:Veranstaltungen fÃ¼r Reformschule Kassel
REFRESH-INTERVAL;VALUE=DURATION:PT1H
X-Robots-Tag:noindex
X-PUBLISHED-TTL:PT1H
BEGIN:VTIMEZONE
TZID:Europe/Berlin
BEGIN:DAYLIGHT
TZOFFSETFROM:+0100
TZOFFSETTO:+0200
TZNAME:CEST
DTSTART:20190331T010000
END:DAYLIGHT
BEGIN:STANDARD
TZOFFSETFROM:+0200
TZOFFSETTO:+0100
TZNAME:CET
DTSTART:20191027T010000
END:STANDARD
BEGIN:DAYLIGHT
TZOFFSETFROM:+0100
TZOFFSETTO:+0200
TZNAME:CEST
DTSTART:20200329T010000
END:DAYLIGHT
BEGIN:STANDARD
TZOFFSETFROM:+0200
TZOFFSETTO:+0100
TZNAME:CET
DTSTART:20201025T010000
END:STANDARD
BEGIN:DAYLIGHT
TZOFFSETFROM:+0100
TZOFFSETTO:+0200
TZNAME:CEST
DTSTART:20210328T010000
END:DAYLIGHT
BEGIN:STANDARD
TZOFFSETFROM:+0200
TZOFFSETTO:+0100
TZNAME:CET
DTSTART:20211031T010000
END:STANDARD
END:VTIMEZONE
BEGIN:VEVENT
DTSTART;TZID=Europe/Berlin:20201118T151500
DTEND;TZID=Europe/Berlin:20201118T151500
DTSTAMP:20260422T020114
CREATED:20200824T144059Z
LAST-MODIFIED:20201118T100607Z
UID:8414-1605712500-1605712500@reformschule.de
SUMMARY:Gesamtkonferenz
DESCRIPTION:Tagesordnungspunkte: \n1.BegrÃ¼ÃŸung \n2.Verabschiedung des Protokolls der letzten Gesamtkonferenz \n3.WÃ¼nsche zur Tagesordnung \n4.Informationen zur Situation \n5.Personalia \n6.GeschÃ¤ftsverteilungsplan \n7.Bericht aus den AGs \n8.Bericht aus der SV \n9.Verschiedenes \n  \nProtokoll: Christina PÃ¼rzer \nEnde: ca. 17.15 Uhr
URL:https://reformschule.de/termine/gesamtkonferenz-10/
CATEGORIES:Kollegium
END:VEVENT
END:VCALENDAR