BEGIN:VCALENDAR
VERSION:2.0
PRODID:-//Reformschule Kassel - ECPv6.15.20//NONSGML v1.0//EN
CALSCALE:GREGORIAN
METHOD:PUBLISH
X-WR-CALNAME:Reformschule Kassel
X-ORIGINAL-URL:https://reformschule.de
X-WR-CALDESC:Veranstaltungen für Reformschule Kassel
REFRESH-INTERVAL;VALUE=DURATION:PT1H
X-Robots-Tag:noindex
X-PUBLISHED-TTL:PT1H
BEGIN:VTIMEZONE
TZID:Europe/Berlin
BEGIN:DAYLIGHT
TZOFFSETFROM:+0100
TZOFFSETTO:+0200
TZNAME:CEST
DTSTART:20190331T010000
END:DAYLIGHT
BEGIN:STANDARD
TZOFFSETFROM:+0200
TZOFFSETTO:+0100
TZNAME:CET
DTSTART:20191027T010000
END:STANDARD
BEGIN:DAYLIGHT
TZOFFSETFROM:+0100
TZOFFSETTO:+0200
TZNAME:CEST
DTSTART:20200329T010000
END:DAYLIGHT
BEGIN:STANDARD
TZOFFSETFROM:+0200
TZOFFSETTO:+0100
TZNAME:CET
DTSTART:20201025T010000
END:STANDARD
BEGIN:DAYLIGHT
TZOFFSETFROM:+0100
TZOFFSETTO:+0200
TZNAME:CEST
DTSTART:20210328T010000
END:DAYLIGHT
BEGIN:STANDARD
TZOFFSETFROM:+0200
TZOFFSETTO:+0100
TZNAME:CET
DTSTART:20211031T010000
END:STANDARD
END:VTIMEZONE
BEGIN:VEVENT
DTSTART;TZID=Europe/Berlin:20201021T151500
DTEND;TZID=Europe/Berlin:20201021T181500
DTSTAMP:20260422T030712
CREATED:20200824T142412Z
LAST-MODIFIED:20201021T054953Z
UID:8376-1603293300-1603304100@reformschule.de
SUMMARY:Pädagogischer Austausch über die Schüler*innen des 6. und 7. Jahrgangs
DESCRIPTION:Ablauf:\nIII a 15.15 bis 15.45 Uhr\, \nIII c 15.45 bis 16.15 Uhr\, \nIII d 16.15 bis 16.45 Uhr\, \nIII e 16.45 bis 17.15 Uhr\, \nIII f 17.15 bis 17.45 Uhr.
URL:https://reformschule.de/termine/paedagogischeraustausch67/
LOCATION:Caféteria der Reformschule
CATEGORIES:Kollegium
END:VEVENT
END:VCALENDAR