BEGIN:VCALENDAR
VERSION:2.0
PRODID:-//Reformschule Kassel - ECPv6.15.20//NONSGML v1.0//EN
CALSCALE:GREGORIAN
METHOD:PUBLISH
X-WR-CALNAME:Reformschule Kassel
X-ORIGINAL-URL:https://reformschule.de
X-WR-CALDESC:Veranstaltungen fÃ¼r Reformschule Kassel
REFRESH-INTERVAL;VALUE=DURATION:PT1H
X-Robots-Tag:noindex
X-PUBLISHED-TTL:PT1H
BEGIN:VTIMEZONE
TZID:Europe/Berlin
BEGIN:DAYLIGHT
TZOFFSETFROM:+0100
TZOFFSETTO:+0200
TZNAME:CEST
DTSTART:20190331T010000
END:DAYLIGHT
BEGIN:STANDARD
TZOFFSETFROM:+0200
TZOFFSETTO:+0100
TZNAME:CET
DTSTART:20191027T010000
END:STANDARD
BEGIN:DAYLIGHT
TZOFFSETFROM:+0100
TZOFFSETTO:+0200
TZNAME:CEST
DTSTART:20200329T010000
END:DAYLIGHT
BEGIN:STANDARD
TZOFFSETFROM:+0200
TZOFFSETTO:+0100
TZNAME:CET
DTSTART:20201025T010000
END:STANDARD
BEGIN:DAYLIGHT
TZOFFSETFROM:+0100
TZOFFSETTO:+0200
TZNAME:CEST
DTSTART:20210328T010000
END:DAYLIGHT
BEGIN:STANDARD
TZOFFSETFROM:+0200
TZOFFSETTO:+0100
TZNAME:CET
DTSTART:20211031T010000
END:STANDARD
END:VTIMEZONE
BEGIN:VEVENT
DTSTART;TZID=Europe/Berlin:20200909T151500
DTEND;TZID=Europe/Berlin:20200909T171500
DTSTAMP:20260422T043251
CREATED:20200824T140703Z
LAST-MODIFIED:20200831T140502Z
UID:8349-1599664500-1599671700@reformschule.de
SUMMARY:Gesamtkonferenz
DESCRIPTION:Tagesordnung: \n  \n\nBegrÃ¼ÃŸung\nVerabschiedung der Plenum-Protokolle der Vorbereitungswoche\nWÃ¼nsche zur Tagesordnung\nAktuelles zum Hygieneplan\na) Tragen des Mund-Nasen-Schutzes\nb) Pausenregelung\nc) Nutzung des Lehrer*innenzimmers\nGeschÃ¤ftsverteilungsplan\nSchuldeputate\nFortbildungen\nHaushaltsausschuss\nBericht aus den AGs\nVerschiedenes\n\n  \nEnde gegen 17:15
URL:https://reformschule.de/termine/gesamtkonferenz-8/
LOCATION:CafÃ©teria der Reformschule
CATEGORIES:Kollegium
END:VEVENT
END:VCALENDAR