BEGIN:VCALENDAR
VERSION:2.0
PRODID:-//Reformschule Kassel - ECPv6.15.20//NONSGML v1.0//EN
CALSCALE:GREGORIAN
METHOD:PUBLISH
X-ORIGINAL-URL:https://reformschule.de
X-WR-CALDESC:Veranstaltungen für Reformschule Kassel
REFRESH-INTERVAL;VALUE=DURATION:PT1H
X-Robots-Tag:noindex
X-PUBLISHED-TTL:PT1H
BEGIN:VTIMEZONE
TZID:Europe/Berlin
BEGIN:DAYLIGHT
TZOFFSETFROM:+0100
TZOFFSETTO:+0200
TZNAME:CEST
DTSTART:20190331T010000
END:DAYLIGHT
BEGIN:STANDARD
TZOFFSETFROM:+0200
TZOFFSETTO:+0100
TZNAME:CET
DTSTART:20191027T010000
END:STANDARD
BEGIN:DAYLIGHT
TZOFFSETFROM:+0100
TZOFFSETTO:+0200
TZNAME:CEST
DTSTART:20200329T010000
END:DAYLIGHT
BEGIN:STANDARD
TZOFFSETFROM:+0200
TZOFFSETTO:+0100
TZNAME:CET
DTSTART:20201025T010000
END:STANDARD
BEGIN:DAYLIGHT
TZOFFSETFROM:+0100
TZOFFSETTO:+0200
TZNAME:CEST
DTSTART:20210328T010000
END:DAYLIGHT
BEGIN:STANDARD
TZOFFSETFROM:+0200
TZOFFSETTO:+0100
TZNAME:CET
DTSTART:20211031T010000
END:STANDARD
END:VTIMEZONE
BEGIN:VEVENT
DTSTART;TZID=Europe/Berlin:20200212T151500
DTEND;TZID=Europe/Berlin:20200212T174500
DTSTAMP:20260424T040046
CREATED:20200129T132245Z
LAST-MODIFIED:20200129T133554Z
UID:5749-1581520500-1581529500@reformschule.de
SUMMARY:Gesamtkonferenz
DESCRIPTION:Tagesordnung: \n1. Begrüßung\n2. Verabschiedung des Protokolls der letzten Gesamtkonferenz\n3. Wünsche zur Tagesordnung\n4. Personalia\n5. Schulkonferenz\n6. Haushaltsplanung 2020\n7. Tag der offenen Tür\n8. Fachtag Binnendifferenzierung\n9. Kooperation mit der Uni\n10. SV &#8211; Feedbackbogen\n11. Bericht aus den AGs\n12. Verschiedenes \nProtokoll: Anke Möhring\nEnde: ca. 17.45 Uhr
URL:https://reformschule.de/termine/gesamtkonferenz-3/
LOCATION:Caféteria der Reformschule
CATEGORIES:Kollegium
ATTACH;FMTTYPE=image/jpeg:https://reformschule.de/wp-content/uploads/2020/01/Logo-gesamtkonferenz1-e1580305077825.jpg
END:VEVENT
END:VCALENDAR