BEGIN:VCALENDAR
VERSION:2.0
PRODID:-//Reformschule Kassel - ECPv6.15.20//NONSGML v1.0//EN
CALSCALE:GREGORIAN
METHOD:PUBLISH
X-ORIGINAL-URL:https://reformschule.de
X-WR-CALDESC:Veranstaltungen für Reformschule Kassel
REFRESH-INTERVAL;VALUE=DURATION:PT1H
X-Robots-Tag:noindex
X-PUBLISHED-TTL:PT1H
BEGIN:VTIMEZONE
TZID:Europe/Berlin
BEGIN:DAYLIGHT
TZOFFSETFROM:+0100
TZOFFSETTO:+0200
TZNAME:CEST
DTSTART:20190331T010000
END:DAYLIGHT
BEGIN:STANDARD
TZOFFSETFROM:+0200
TZOFFSETTO:+0100
TZNAME:CET
DTSTART:20191027T010000
END:STANDARD
BEGIN:DAYLIGHT
TZOFFSETFROM:+0100
TZOFFSETTO:+0200
TZNAME:CEST
DTSTART:20200329T010000
END:DAYLIGHT
BEGIN:STANDARD
TZOFFSETFROM:+0200
TZOFFSETTO:+0100
TZNAME:CET
DTSTART:20201025T010000
END:STANDARD
BEGIN:DAYLIGHT
TZOFFSETFROM:+0100
TZOFFSETTO:+0200
TZNAME:CEST
DTSTART:20210328T010000
END:DAYLIGHT
BEGIN:STANDARD
TZOFFSETFROM:+0200
TZOFFSETTO:+0100
TZNAME:CET
DTSTART:20211031T010000
END:STANDARD
END:VTIMEZONE
BEGIN:VEVENT
DTSTART;TZID=Europe/Berlin:20200210T190000
DTEND;TZID=Europe/Berlin:20200210T220000
DTSTAMP:20260424T040014
CREATED:20200116T141526Z
LAST-MODIFIED:20200120T160233Z
UID:5549-1581361200-1581372000@reformschule.de
SUMMARY:Infoabend zum Frankreichaustausch der 9er
DESCRIPTION:Die Schüler*innen\, die am Frankreichaustausch teilnehmen\, erscheinen bitte mit einem Elternteil oder beiden Eltern zum Infoabend. \nAchtung: Der Infoabend findet in der Aula der Heinrich-Schütz-Schule statt!
URL:https://reformschule.de/termine/sv/
LOCATION:Aula der Heinrich-Schütz-Schule\, Freiherr-vom-Stein-Straße 11\, Kassel\, Hessen\, 34119\, Deutschland
CATEGORIES:Eltern,Schüler*innen
END:VEVENT
END:VCALENDAR