BEGIN:VCALENDAR
VERSION:2.0
PRODID:-//Reformschule Kassel - ECPv6.15.20//NONSGML v1.0//EN
CALSCALE:GREGORIAN
METHOD:PUBLISH
X-ORIGINAL-URL:https://reformschule.de
X-WR-CALDESC:Veranstaltungen für Reformschule Kassel
REFRESH-INTERVAL;VALUE=DURATION:PT1H
X-Robots-Tag:noindex
X-PUBLISHED-TTL:PT1H
BEGIN:VTIMEZONE
TZID:Europe/Berlin
BEGIN:DAYLIGHT
TZOFFSETFROM:+0100
TZOFFSETTO:+0200
TZNAME:CEST
DTSTART:20190331T010000
END:DAYLIGHT
BEGIN:STANDARD
TZOFFSETFROM:+0200
TZOFFSETTO:+0100
TZNAME:CET
DTSTART:20191027T010000
END:STANDARD
BEGIN:DAYLIGHT
TZOFFSETFROM:+0100
TZOFFSETTO:+0200
TZNAME:CEST
DTSTART:20200329T010000
END:DAYLIGHT
BEGIN:STANDARD
TZOFFSETFROM:+0200
TZOFFSETTO:+0100
TZNAME:CET
DTSTART:20201025T010000
END:STANDARD
BEGIN:DAYLIGHT
TZOFFSETFROM:+0100
TZOFFSETTO:+0200
TZNAME:CEST
DTSTART:20210328T010000
END:DAYLIGHT
BEGIN:STANDARD
TZOFFSETFROM:+0200
TZOFFSETTO:+0100
TZNAME:CET
DTSTART:20211031T010000
END:STANDARD
END:VTIMEZONE
BEGIN:VEVENT
DTSTART;TZID=Europe/Berlin:20200127T080000
DTEND;TZID=Europe/Berlin:20200127T170000
DTSTAMP:20260424T040000
CREATED:20200127T144524Z
LAST-MODIFIED:20200127T144524Z
UID:5696-1580112000-1580144400@reformschule.de
SUMMARY:Deutschlandaustausch nach Kassel 2020
DESCRIPTION:16.5.2020 – 23.5.2020 \n30 Schülerinnen und Schüler aus dem Jahrgang 9 der Reformschule und 8 aus der Heinrich Schütz Schule empfangen auf dem\nDeutschlandaustausch nach Kassel die 38 Franzosen von der Lycee Pavie aus Guingamp.\n(insgesamt 38 Schülerinnen und Schüler\, 8 haben sich von der HSS angemeldet).\nBetreuende Lehrkräfte: Pablo Wittenbrink und Jana Németh\, sowie Ute Schmerbach von der HSS\nReisedaten:\nAnkunft in Kassel: Am 16.05.2020. Am 23.05.2020 fahren sie im Laufe des Vormittags wieder in Kassel ab.\n(über das Himmelfahrt-Wochenende)
URL:https://reformschule.de/termine/deutschlandaustausch-nach-kassel-2020/
END:VEVENT
END:VCALENDAR