BEGIN:VCALENDAR
VERSION:2.0
PRODID:-//Reformschule Kassel - ECPv6.15.20//NONSGML v1.0//EN
CALSCALE:GREGORIAN
METHOD:PUBLISH
X-WR-CALNAME:Reformschule Kassel
X-ORIGINAL-URL:https://reformschule.de
X-WR-CALDESC:Veranstaltungen fĂŒr Reformschule Kassel
REFRESH-INTERVAL;VALUE=DURATION:PT1H
X-Robots-Tag:noindex
X-PUBLISHED-TTL:PT1H
BEGIN:VTIMEZONE
TZID:Europe/Berlin
BEGIN:DAYLIGHT
TZOFFSETFROM:+0100
TZOFFSETTO:+0200
TZNAME:CEST
DTSTART:20190331T010000
END:DAYLIGHT
BEGIN:STANDARD
TZOFFSETFROM:+0200
TZOFFSETTO:+0100
TZNAME:CET
DTSTART:20191027T010000
END:STANDARD
BEGIN:DAYLIGHT
TZOFFSETFROM:+0100
TZOFFSETTO:+0200
TZNAME:CEST
DTSTART:20200329T010000
END:DAYLIGHT
BEGIN:STANDARD
TZOFFSETFROM:+0200
TZOFFSETTO:+0100
TZNAME:CET
DTSTART:20201025T010000
END:STANDARD
BEGIN:DAYLIGHT
TZOFFSETFROM:+0100
TZOFFSETTO:+0200
TZNAME:CEST
DTSTART:20210328T010000
END:DAYLIGHT
BEGIN:STANDARD
TZOFFSETFROM:+0200
TZOFFSETTO:+0100
TZNAME:CET
DTSTART:20211031T010000
END:STANDARD
END:VTIMEZONE
BEGIN:VEVENT
DTSTART;TZID=Europe/Berlin:20200118T120000
DTEND;TZID=Europe/Berlin:20200118T170000
DTSTAMP:20260424T044423
CREATED:20191125T150603Z
LAST-MODIFIED:20200118T085024Z
UID:5215-1579348800-1579366800@reformschule.de
SUMMARY:Theater-AG-Probe
DESCRIPTION:  \n\n\n\n\n\n\n\nUhrzeit & Akt\nPesonen\n\n\n12:00 bis 12:45 Uhr\nVierter Akt\, 4. bis 6. Szene\nEscalus\, Angelo\, Angelos Gewissen\, HerzĂ¶ge\, Bruder Peter\, Isabella\, Mariana\n\n\n13:00 bis 16:00 Uhr\nFĂŒnfter Akt\, 1. Szene\nHerzĂ¶ge\, Angelo\, Escalus\, Bruder Peter\, Isabella\, Angelos Gewissen\, Lucio\, Mariana\,\n\n\nAb 15:00 Uhr\nalle vorherigen + Kerkermeister\n\n\n16:00 bis 17:00 Uhr\nZweiter Akt\, 2. Szene\nEllbogen\, Angelo\, Escalus\, Harlekin\, Pompey\, Schaum\n\n\n\n\n\n\n\n\n  \n 
URL:https://reformschule.de/termine/theater-ag-probe-8/
LOCATION:Turnhalle der Reformschule\, SchulstraĂe 2\, Kassel\, Hessen\, 34131
CATEGORIES:Arbeitsgemeinschaft
ATTACH;FMTTYPE=image/jpeg:https://reformschule.de/wp-content/uploads/2019/05/IND4877.jpg
END:VEVENT
BEGIN:VEVENT
DTSTART;TZID=Europe/Berlin:20200118T170000
DTEND;TZID=Europe/Berlin:20200118T190000
DTSTAMP:20260424T044423
CREATED:20191023T134557Z
LAST-MODIFIED:20191125T154731Z
UID:4947-1579366800-1579374000@reformschule.de
SUMMARY:Drehbuch/Skript-Gruppe
DESCRIPTION:
URL:https://reformschule.de/termine/drehbuch-skript-gruppe/
CATEGORIES:Arbeitsgemeinschaft
END:VEVENT
END:VCALENDAR