BEGIN:VCALENDAR
VERSION:2.0
PRODID:-//Reformschule Kassel - ECPv6.15.20//NONSGML v1.0//EN
CALSCALE:GREGORIAN
METHOD:PUBLISH
X-ORIGINAL-URL:https://reformschule.de
X-WR-CALDESC:Veranstaltungen für Reformschule Kassel
REFRESH-INTERVAL;VALUE=DURATION:PT1H
X-Robots-Tag:noindex
X-PUBLISHED-TTL:PT1H
BEGIN:VTIMEZONE
TZID:Europe/Berlin
BEGIN:DAYLIGHT
TZOFFSETFROM:+0100
TZOFFSETTO:+0200
TZNAME:CEST
DTSTART:20180325T010000
END:DAYLIGHT
BEGIN:STANDARD
TZOFFSETFROM:+0200
TZOFFSETTO:+0100
TZNAME:CET
DTSTART:20181028T010000
END:STANDARD
BEGIN:DAYLIGHT
TZOFFSETFROM:+0100
TZOFFSETTO:+0200
TZNAME:CEST
DTSTART:20190331T010000
END:DAYLIGHT
BEGIN:STANDARD
TZOFFSETFROM:+0200
TZOFFSETTO:+0100
TZNAME:CET
DTSTART:20191027T010000
END:STANDARD
BEGIN:DAYLIGHT
TZOFFSETFROM:+0100
TZOFFSETTO:+0200
TZNAME:CEST
DTSTART:20200329T010000
END:DAYLIGHT
BEGIN:STANDARD
TZOFFSETFROM:+0200
TZOFFSETTO:+0100
TZNAME:CET
DTSTART:20201025T010000
END:STANDARD
END:VTIMEZONE
BEGIN:VEVENT
DTSTART;TZID=Europe/Berlin:20191123T120000
DTEND;TZID=Europe/Berlin:20191123T170000
DTSTAMP:20260424T051952
CREATED:20190814T173635Z
LAST-MODIFIED:20191023T134230Z
UID:4218-1574510400-1574528400@reformschule.de
SUMMARY:Theater-AG-Probe
DESCRIPTION:12-14:15 Uhr  1. Akt (Ich bitte um die Anwesenheit aller Herzöge.)\n14:30-17 Uhr  2. Akt (Ich bitte um die Anwesenheit aller Herzöge.)
URL:https://reformschule.de/termine/theater-ag-probe-5/
LOCATION:Turnhalle der Reformschule\, Schulstraße 2\, Kassel\, Hessen\, 34131
CATEGORIES:Arbeitsgemeinschaft
END:VEVENT
END:VCALENDAR