BEGIN:VCALENDAR
VERSION:2.0
PRODID:-//Reformschule Kassel - ECPv6.15.20//NONSGML v1.0//EN
CALSCALE:GREGORIAN
METHOD:PUBLISH
X-WR-CALNAME:Reformschule Kassel
X-ORIGINAL-URL:https://reformschule.de
X-WR-CALDESC:Veranstaltungen für Reformschule Kassel
REFRESH-INTERVAL;VALUE=DURATION:PT1H
X-Robots-Tag:noindex
X-PUBLISHED-TTL:PT1H
BEGIN:VTIMEZONE
TZID:Europe/Berlin
BEGIN:DAYLIGHT
TZOFFSETFROM:+0100
TZOFFSETTO:+0200
TZNAME:CEST
DTSTART:20180325T010000
END:DAYLIGHT
BEGIN:STANDARD
TZOFFSETFROM:+0200
TZOFFSETTO:+0100
TZNAME:CET
DTSTART:20181028T010000
END:STANDARD
BEGIN:DAYLIGHT
TZOFFSETFROM:+0100
TZOFFSETTO:+0200
TZNAME:CEST
DTSTART:20190331T010000
END:DAYLIGHT
BEGIN:STANDARD
TZOFFSETFROM:+0200
TZOFFSETTO:+0100
TZNAME:CET
DTSTART:20191027T010000
END:STANDARD
BEGIN:DAYLIGHT
TZOFFSETFROM:+0100
TZOFFSETTO:+0200
TZNAME:CEST
DTSTART:20200329T010000
END:DAYLIGHT
BEGIN:STANDARD
TZOFFSETFROM:+0200
TZOFFSETTO:+0100
TZNAME:CET
DTSTART:20201025T010000
END:STANDARD
END:VTIMEZONE
BEGIN:VEVENT
DTSTART;TZID=Europe/Berlin:20191120T151500
DTEND;TZID=Europe/Berlin:20191120T171500
DTSTAMP:20260424T052108
CREATED:20190819T144827Z
LAST-MODIFIED:20200824T140400Z
UID:4357-1574262900-1574270100@reformschule.de
SUMMARY:Gesamtkonferenz
DESCRIPTION:Tagesordnungspunkte:\n1.Begrüßung\n2.Verabschiedung des Protokolls der letzten Gesamtkonferenz\n3.Wünsche zur Tagesordnung\n4.Personalia\n5.Schuldeputat\n6.Religionsgespräch\n7.Jahrestagung Club of Rome\n8.Bericht aus der SV\n9.Bericht aus den AGs\n10.Vorstellung einer Fall-Studie mit Schüler*innen\, Dr. Petra Richey\, Uni Kassel\n11.Verschiedenes&#8230;\nProtokoll: Heike Meyfarth-Leipolth\nEnde: ca. 17.15Uhr
URL:https://reformschule.de/termine/gesamtkonferenz-2/
LOCATION:Caféteria der Reformschule sowie die Gruppenräume der Stufe IV\, Schulstraße 2\, Kassel\, Hessen\, 34131\, Deutschland
CATEGORIES:Kollegium
END:VEVENT
END:VCALENDAR