BEGIN:VCALENDAR
VERSION:2.0
PRODID:-//Reformschule Kassel - ECPv6.15.20//NONSGML v1.0//EN
CALSCALE:GREGORIAN
METHOD:PUBLISH
X-WR-CALNAME:Reformschule Kassel
X-ORIGINAL-URL:https://reformschule.de
X-WR-CALDESC:Veranstaltungen für Reformschule Kassel
REFRESH-INTERVAL;VALUE=DURATION:PT1H
X-Robots-Tag:noindex
X-PUBLISHED-TTL:PT1H
BEGIN:VTIMEZONE
TZID:Europe/Berlin
BEGIN:DAYLIGHT
TZOFFSETFROM:+0100
TZOFFSETTO:+0200
TZNAME:CEST
DTSTART:20180325T010000
END:DAYLIGHT
BEGIN:STANDARD
TZOFFSETFROM:+0200
TZOFFSETTO:+0100
TZNAME:CET
DTSTART:20181028T010000
END:STANDARD
BEGIN:DAYLIGHT
TZOFFSETFROM:+0100
TZOFFSETTO:+0200
TZNAME:CEST
DTSTART:20190331T010000
END:DAYLIGHT
BEGIN:STANDARD
TZOFFSETFROM:+0200
TZOFFSETTO:+0100
TZNAME:CET
DTSTART:20191027T010000
END:STANDARD
BEGIN:DAYLIGHT
TZOFFSETFROM:+0100
TZOFFSETTO:+0200
TZNAME:CEST
DTSTART:20200329T010000
END:DAYLIGHT
BEGIN:STANDARD
TZOFFSETFROM:+0200
TZOFFSETTO:+0100
TZNAME:CET
DTSTART:20201025T010000
END:STANDARD
END:VTIMEZONE
BEGIN:VEVENT
DTSTART;TZID=Europe/Berlin:20191026T120000
DTEND;TZID=Europe/Berlin:20191026T190000
DTSTAMP:20260424T053749
CREATED:20190814T173532Z
LAST-MODIFIED:20191022T050129Z
UID:4215-1572091200-1572116400@reformschule.de
SUMMARY:Theater-AG-Probe
DESCRIPTION:Ich bitte alle Schauspieler für den Herzog bei allen drei zu probenden Akten anwesend zu sein.\n12-13:40 Uhr Durchstellen des 3. Akts\n13:40-15:20 Uhr Durchstellen des 4. Akts\n15:30-17:00 Uhr Durchstellen des 5. Akts \n17-19 Uhr Skriptgruppe
URL:https://reformschule.de/termine/theater-ag-probe-4/
LOCATION:Turnhalle der Reformschule\, Schulstraße 2\, Kassel\, Hessen\, 34131
CATEGORIES:Arbeitsgemeinschaft
END:VEVENT
END:VCALENDAR