BEGIN:VCALENDAR
VERSION:2.0
PRODID:-//Reformschule Kassel - ECPv6.15.20//NONSGML v1.0//EN
CALSCALE:GREGORIAN
METHOD:PUBLISH
X-WR-CALNAME:Reformschule Kassel
X-ORIGINAL-URL:https://reformschule.de
X-WR-CALDESC:Veranstaltungen für Reformschule Kassel
REFRESH-INTERVAL;VALUE=DURATION:PT1H
X-Robots-Tag:noindex
X-PUBLISHED-TTL:PT1H
BEGIN:VTIMEZONE
TZID:Europe/Berlin
BEGIN:DAYLIGHT
TZOFFSETFROM:+0100
TZOFFSETTO:+0200
TZNAME:CEST
DTSTART:20180325T010000
END:DAYLIGHT
BEGIN:STANDARD
TZOFFSETFROM:+0200
TZOFFSETTO:+0100
TZNAME:CET
DTSTART:20181028T010000
END:STANDARD
BEGIN:DAYLIGHT
TZOFFSETFROM:+0100
TZOFFSETTO:+0200
TZNAME:CEST
DTSTART:20190331T010000
END:DAYLIGHT
BEGIN:STANDARD
TZOFFSETFROM:+0200
TZOFFSETTO:+0100
TZNAME:CET
DTSTART:20191027T010000
END:STANDARD
BEGIN:DAYLIGHT
TZOFFSETFROM:+0100
TZOFFSETTO:+0200
TZNAME:CEST
DTSTART:20200329T010000
END:DAYLIGHT
BEGIN:STANDARD
TZOFFSETFROM:+0200
TZOFFSETTO:+0100
TZNAME:CET
DTSTART:20201025T010000
END:STANDARD
END:VTIMEZONE
BEGIN:VEVENT
DTSTART;TZID=Europe/Berlin:20191016T151500
DTEND;TZID=Europe/Berlin:20191016T170000
DTSTAMP:20260424T053504
CREATED:20190819T150910Z
LAST-MODIFIED:20190819T150910Z
UID:4374-1571238900-1571245200@reformschule.de
SUMMARY:Förderplankonferenz Stufe IV
DESCRIPTION:
URL:https://reformschule.de/termine/foerderplankonferenz-stufe-iv/
CATEGORIES:Kollegium
END:VEVENT
BEGIN:VEVENT
DTSTART;TZID=Europe/Berlin:20191016T200000
DTEND;TZID=Europe/Berlin:20191016T220000
DTSTAMP:20260424T053504
CREATED:20190921T065816Z
LAST-MODIFIED:20190921T070557Z
UID:4750-1571256000-1571263200@reformschule.de
SUMMARY:Schulelternbeiratssitzung
DESCRIPTION:
URL:https://reformschule.de/termine/schulelternbeiratssitzung/
LOCATION:Caféteria der Reformschule
CATEGORIES:Eltern
END:VEVENT
END:VCALENDAR