BEGIN:VCALENDAR
VERSION:2.0
PRODID:-//Reformschule Kassel - ECPv6.15.20//NONSGML v1.0//EN
CALSCALE:GREGORIAN
METHOD:PUBLISH
X-ORIGINAL-URL:https://reformschule.de
X-WR-CALDESC:Veranstaltungen fÃ¼r Reformschule Kassel
REFRESH-INTERVAL;VALUE=DURATION:PT1H
X-Robots-Tag:noindex
X-PUBLISHED-TTL:PT1H
BEGIN:VTIMEZONE
TZID:Europe/Berlin
BEGIN:DAYLIGHT
TZOFFSETFROM:+0100
TZOFFSETTO:+0200
TZNAME:CEST
DTSTART:20180325T010000
END:DAYLIGHT
BEGIN:STANDARD
TZOFFSETFROM:+0200
TZOFFSETTO:+0100
TZNAME:CET
DTSTART:20181028T010000
END:STANDARD
BEGIN:DAYLIGHT
TZOFFSETFROM:+0100
TZOFFSETTO:+0200
TZNAME:CEST
DTSTART:20190331T010000
END:DAYLIGHT
BEGIN:STANDARD
TZOFFSETFROM:+0200
TZOFFSETTO:+0100
TZNAME:CET
DTSTART:20191027T010000
END:STANDARD
BEGIN:DAYLIGHT
TZOFFSETFROM:+0100
TZOFFSETTO:+0200
TZNAME:CEST
DTSTART:20200329T010000
END:DAYLIGHT
BEGIN:STANDARD
TZOFFSETFROM:+0200
TZOFFSETTO:+0100
TZNAME:CET
DTSTART:20201025T010000
END:STANDARD
END:VTIMEZONE
BEGIN:VEVENT
DTSTART;VALUE=DATE:20190906
DTEND;VALUE=DATE:20190914
DTSTAMP:20260424T060343
CREATED:20190812T142546Z
LAST-MODIFIED:20190902T135049Z
UID:4114-1567728000-1568419199@reformschule.de
SUMMARY:Gruppenfahrt der Stufe III nach Sylt
DESCRIPTION:Der Treffpunkt fÃ¼r die Klassen IIIa\, IIIb und IIIc ist am 6. 9. 2019 um 8:05 Uhr\, am Bahnhof WilhemshÃ¶he auf dem Gleis 3. \nDagegen ist der Treffpunkt fÃ¼r die Klassen IIId\, IIIe und IIIf 6. 9. 2019 um 09:50 Uhr\, am Bahnhof WilhemshÃ¶he auf dem Gleis 3. \nDie Postanschrift des Jugendseeheims ist: \nJugendseeheim Kreis Kassel \n25992 Sylt \nEmail-Adresse: heimleitung@jugendseeheim.sylt.de \nTelefon (bitte nur in dringenden FÃ¤llen): 04651870227 \n  \nBitte maximal 25 â‚¬ Taschengeld mitgeben. \nDer Koffer\, beziehungsweise die Tasche\, sollte von dem SchÃ¼ler transportiert werden kÃ¶nnen. \nZurÃ¼ckkommen werden die SchÃ¼ler der Klassen IIIa\, IIIb und IIIc um 16:21 Uhr auf dem Gleis 2 am Bahnhof WilhelmshÃ¶he. \nDagegen werden die SchÃ¼ler der Klassen IIId\, IIIe und IIIf um 17:37 Uhr auf dem Gleis 2 am Bahnhof WilhelmshÃ¶he zurÃ¼ckkommen.
URL:https://reformschule.de/termine/gruppenfahrt-der-stufe-iii-nach-sylt/
CATEGORIES:SchÃ¼ler*innen
END:VEVENT
END:VCALENDAR