BEGIN:VCALENDAR
VERSION:2.0
PRODID:-//Reformschule Kassel - ECPv6.15.20//NONSGML v1.0//EN
CALSCALE:GREGORIAN
METHOD:PUBLISH
X-WR-CALNAME:Reformschule Kassel
X-ORIGINAL-URL:https://reformschule.de
X-WR-CALDESC:Veranstaltungen für Reformschule Kassel
REFRESH-INTERVAL;VALUE=DURATION:PT1H
X-Robots-Tag:noindex
X-PUBLISHED-TTL:PT1H
BEGIN:VTIMEZONE
TZID:Europe/Berlin
BEGIN:DAYLIGHT
TZOFFSETFROM:+0100
TZOFFSETTO:+0200
TZNAME:CEST
DTSTART:20180325T010000
END:DAYLIGHT
BEGIN:STANDARD
TZOFFSETFROM:+0200
TZOFFSETTO:+0100
TZNAME:CET
DTSTART:20181028T010000
END:STANDARD
BEGIN:DAYLIGHT
TZOFFSETFROM:+0100
TZOFFSETTO:+0200
TZNAME:CEST
DTSTART:20190331T010000
END:DAYLIGHT
BEGIN:STANDARD
TZOFFSETFROM:+0200
TZOFFSETTO:+0100
TZNAME:CET
DTSTART:20191027T010000
END:STANDARD
BEGIN:DAYLIGHT
TZOFFSETFROM:+0100
TZOFFSETTO:+0200
TZNAME:CEST
DTSTART:20200329T010000
END:DAYLIGHT
BEGIN:STANDARD
TZOFFSETFROM:+0200
TZOFFSETTO:+0100
TZNAME:CET
DTSTART:20201025T010000
END:STANDARD
END:VTIMEZONE
BEGIN:VEVENT
DTSTART;VALUE=DATE:20190830
DTEND;VALUE=DATE:20190831
DTSTAMP:20260424T054706
CREATED:20190819T145718Z
LAST-MODIFIED:20190819T145718Z
UID:4367-1567123200-1567209599@reformschule.de
SUMMARY:Aushang AGs
DESCRIPTION:
URL:https://reformschule.de/termine/aushang-ags/
CATEGORIES:Arbeitsgemeinschaft,Schüler*innen
END:VEVENT
END:VCALENDAR